BEGIN:VCALENDAR
VERSION:2.0
PRODID:-//Tennis Ireland - ECPv6.15.20//NONSGML v1.0//EN
CALSCALE:GREGORIAN
METHOD:PUBLISH
X-WR-CALNAME:Tennis Ireland
X-ORIGINAL-URL:https://www.tennisireland.ie
X-WR-CALDESC:Events for Tennis Ireland
REFRESH-INTERVAL;VALUE=DURATION:PT1H
X-Robots-Tag:noindex
X-PUBLISHED-TTL:PT1H
BEGIN:VTIMEZONE
TZID:UTC
BEGIN:STANDARD
TZOFFSETFROM:+0000
TZOFFSETTO:+0000
TZNAME:UTC
DTSTART:20250101T000000
END:STANDARD
END:VTIMEZONE
BEGIN:VEVENT
DTSTART;TZID=UTC:20260501T000000
DTEND;TZID=UTC:20260503T000000
DTSTAMP:20260420T095831
CREATED:20251203T120710Z
LAST-MODIFIED:20251203T120710Z
UID:10002101-1777593600-1777766400@www.tennisireland.ie
SUMMARY:Tyrone Junior Tour 200 U12 / U14
DESCRIPTION:
URL:https://www.tennisireland.ie/tournaments/tyrone-junior-tour-200-u12-u14
LOCATION:Omagh LTC
END:VEVENT
BEGIN:VEVENT
DTSTART;TZID=UTC:20260619T000000
DTEND;TZID=UTC:20260621T000000
DTSTAMP:20260420T095831
CREATED:20251203T120807Z
LAST-MODIFIED:20251203T120807Z
UID:10002117-1781827200-1782000000@www.tennisireland.ie
SUMMARY:Tyrone Junior Tour 200 U16 / U18
DESCRIPTION:
URL:https://www.tennisireland.ie/tournaments/tyrone-junior-tour-200-u16-u18
LOCATION:Omagh LTC
END:VEVENT
BEGIN:VEVENT
DTSTART;TZID=UTC:20260718T000000
DTEND;TZID=UTC:20260726T000000
DTSTAMP:20260420T095831
CREATED:20251212T182810Z
LAST-MODIFIED:20260116T114224Z
UID:10002334-1784332800-1785024000@www.tennisireland.ie
SUMMARY:Tyrone Senior Tour 500 Championships 2026
DESCRIPTION:
URL:https://www.tennisireland.ie/tournaments/tyrone-senior-tour-500-championships-2026
LOCATION:Omagh LTC
CATEGORIES:Category 500
END:VEVENT
END:VCALENDAR