BEGIN:VCALENDAR
VERSION:2.0
PRODID:-//Tennis Ireland - ECPv6.15.20//NONSGML v1.0//EN
CALSCALE:GREGORIAN
METHOD:PUBLISH
X-ORIGINAL-URL:https://www.tennisireland.ie
X-WR-CALDESC:Events for Tennis Ireland
REFRESH-INTERVAL;VALUE=DURATION:PT1H
X-Robots-Tag:noindex
X-PUBLISHED-TTL:PT1H
BEGIN:VTIMEZONE
TZID:UTC
BEGIN:STANDARD
TZOFFSETFROM:+0000
TZOFFSETTO:+0000
TZNAME:UTC
DTSTART:20230101T000000
END:STANDARD
END:VTIMEZONE
BEGIN:VEVENT
DTSTART;TZID=UTC:20250802T000000
DTEND;TZID=UTC:20250809T000000
DTSTAMP:20260422T120811
CREATED:20241101T121316Z
LAST-MODIFIED:20250305T111503Z
UID:10001938-1754092800-1754697600@www.tennisireland.ie
SUMMARY:Monaleen National Tour 200 Doubles Open
DESCRIPTION:
URL:https://www.tennisireland.ie/tournaments/monaleen-national-tour-200-doubles-open
LOCATION:Monaleen GAA TC
CATEGORIES:Category 200
END:VEVENT
BEGIN:VEVENT
DTSTART;TZID=UTC:20240805T000000
DTEND;TZID=UTC:20240810T000000
DTSTAMP:20260422T120811
CREATED:20240426T104650Z
LAST-MODIFIED:20240428T102055Z
UID:10001642-1722816000-1723248000@www.tennisireland.ie
SUMMARY:Monaleen Inaugural Tour 200 Senior Doubles Open 2024
DESCRIPTION:
URL:https://www.tennisireland.ie/tournaments/monaleen-inaugural-tour-200-senior-doubles-open-2024
LOCATION:Monaleen GAA TC
CATEGORIES:Category 200
END:VEVENT
END:VCALENDAR