BEGIN:VCALENDAR
VERSION:2.0
PRODID:-//Tennis Ireland - ECPv6.15.20//NONSGML v1.0//EN
CALSCALE:GREGORIAN
METHOD:PUBLISH
X-ORIGINAL-URL:https://www.tennisireland.ie
X-WR-CALDESC:Events for Tennis Ireland
REFRESH-INTERVAL;VALUE=DURATION:PT1H
X-Robots-Tag:noindex
X-PUBLISHED-TTL:PT1H
BEGIN:VTIMEZONE
TZID:UTC
BEGIN:STANDARD
TZOFFSETFROM:+0000
TZOFFSETTO:+0000
TZNAME:UTC
DTSTART:20210101T000000
END:STANDARD
END:VTIMEZONE
BEGIN:VEVENT
DTSTART;TZID=UTC:20250210T000000
DTEND;TZID=UTC:20250215T000000
DTSTAMP:20260422T102328
CREATED:20241101T083007Z
LAST-MODIFIED:20241220T111003Z
UID:10001669-1739145600-1739577600@www.tennisireland.ie
SUMMARY:Wallace Park Junior Tour 500 Open 2025
DESCRIPTION:
URL:https://www.tennisireland.ie/tournaments/wallace-park-junior-tour-500-open-2025
LOCATION:Lisburn TC
CATEGORIES:Category 500
END:VEVENT
BEGIN:VEVENT
DTSTART;TZID=UTC:20240212T000000
DTEND;TZID=UTC:20240217T000000
DTSTAMP:20260422T102328
CREATED:20231110T122031Z
LAST-MODIFIED:20231201T102619Z
UID:10001466-1707696000-1708128000@www.tennisireland.ie
SUMMARY:Wallace Park Tour 500 Junior Open
DESCRIPTION:
URL:https://www.tennisireland.ie/tournaments/wallace-park-tour-500-junior-open
LOCATION:Lisburn TC
CATEGORIES:Category 500
END:VEVENT
BEGIN:VEVENT
DTSTART;TZID=UTC:20230213T000000
DTEND;TZID=UTC:20230219T000000
DTSTAMP:20260422T102328
CREATED:20231017T090834Z
LAST-MODIFIED:20231017T090834Z
UID:10001064-1676246400-1676764800@www.tennisireland.ie
SUMMARY:Wallace Park Junior Tennis Championships Tour 500 & 100
DESCRIPTION:
URL:https://www.tennisireland.ie/tournaments/wallace-park-junior-tennis-championships-tour-500-100
LOCATION:Lisburn TC
CATEGORIES:Category 100
END:VEVENT
BEGIN:VEVENT
DTSTART;TZID=UTC:20221227T000000
DTEND;TZID=UTC:20230102T000000
DTSTAMP:20260422T102328
CREATED:20231017T091531Z
LAST-MODIFIED:20231017T091531Z
UID:10001198-1672099200-1672617600@www.tennisireland.ie
SUMMARY:Wallace Park Indoor Masters Championships (postponed)
DESCRIPTION:
URL:https://www.tennisireland.ie/tournaments/wallace-park-indoor-masters-championships-postponed
LOCATION:Lisburn TC
CATEGORIES:Category 500
END:VEVENT
END:VCALENDAR