BEGIN:VCALENDAR
VERSION:2.0
PRODID:-//Tennis Ireland - ECPv6.15.20//NONSGML v1.0//EN
CALSCALE:GREGORIAN
METHOD:PUBLISH
X-WR-CALNAME:Tennis Ireland
X-ORIGINAL-URL:https://www.tennisireland.ie
X-WR-CALDESC:Events for Tennis Ireland
REFRESH-INTERVAL;VALUE=DURATION:PT1H
X-Robots-Tag:noindex
X-PUBLISHED-TTL:PT1H
BEGIN:VTIMEZONE
TZID:UTC
BEGIN:STANDARD
TZOFFSETFROM:+0000
TZOFFSETTO:+0000
TZNAME:UTC
DTSTART:20250101T000000
END:STANDARD
END:VTIMEZONE
BEGIN:VEVENT
DTSTART;TZID=UTC:20260529T000000
DTEND;TZID=UTC:20260606T000000
DTSTAMP:20260425T153307
CREATED:20251212T181005Z
LAST-MODIFIED:20260113T181903Z
UID:10002291-1780012800-1780704000@www.tennisireland.ie
SUMMARY:Douglas LTC Senior Tour 500 Doubles Open 2026
DESCRIPTION:
URL:https://www.tennisireland.ie/tournaments/douglas-ltc-senior-tour-500-doubles-open-2026
LOCATION:Douglas Lawn Tennis Club
CATEGORIES:Category 500
END:VEVENT
BEGIN:VEVENT
DTSTART;TZID=UTC:20260731T000000
DTEND;TZID=UTC:20260808T000000
DTSTAMP:20260425T153307
CREATED:20251212T183012Z
LAST-MODIFIED:20260116T100022Z
UID:10002341-1785456000-1786147200@www.tennisireland.ie
SUMMARY:Douglas LTC Senior Tour 500 Singles Open 2026
DESCRIPTION:
URL:https://www.tennisireland.ie/tournaments/douglas-ltc-senior-tour-500-singles-open-2026
LOCATION:Douglas Lawn Tennis Club
CATEGORIES:Category 500
END:VEVENT
END:VCALENDAR