BEGIN:VCALENDAR
VERSION:2.0
PRODID:-//Tennis Ireland - ECPv6.15.20//NONSGML v1.0//EN
CALSCALE:GREGORIAN
METHOD:PUBLISH
X-WR-CALNAME:Tennis Ireland
X-ORIGINAL-URL:https://www.tennisireland.ie
X-WR-CALDESC:Events for Tennis Ireland
REFRESH-INTERVAL;VALUE=DURATION:PT1H
X-Robots-Tag:noindex
X-PUBLISHED-TTL:PT1H
BEGIN:VTIMEZONE
TZID:UTC
BEGIN:STANDARD
TZOFFSETFROM:+0000
TZOFFSETTO:+0000
TZNAME:UTC
DTSTART:20220101T000000
END:STANDARD
END:VTIMEZONE
BEGIN:VEVENT
DTSTART;TZID=UTC:20250731T000000
DTEND;TZID=UTC:20250809T000000
DTSTAMP:20260425T154838
CREATED:20241101T121315Z
LAST-MODIFIED:20250625T132329Z
UID:10001934-1753920000-1754697600@www.tennisireland.ie
SUMMARY:Douglas National Tour 500 Singles 2025
DESCRIPTION:
URL:https://www.tennisireland.ie/tournaments/douglas-national-tour-500-singles-2025
LOCATION:Douglas Lawn Tennis Club
CATEGORIES:Category 500
END:VEVENT
BEGIN:VEVENT
DTSTART;TZID=UTC:20250622T000000
DTEND;TZID=UTC:20250628T000000
DTSTAMP:20260425T154838
CREATED:20241101T084930Z
LAST-MODIFIED:20250327T145000Z
UID:10001729-1750550400-1751068800@www.tennisireland.ie
SUMMARY:Douglas Junior Tour 200
DESCRIPTION:
URL:https://www.tennisireland.ie/tournaments/douglas-junior-tour-500
LOCATION:Douglas Lawn Tennis Club
CATEGORIES:Category 200
END:VEVENT
BEGIN:VEVENT
DTSTART;TZID=UTC:20240802T000000
DTEND;TZID=UTC:20240810T000000
DTSTAMP:20260425T154838
CREATED:20231110T120620Z
LAST-MODIFIED:20240215T124549Z
UID:10001418-1722556800-1723248000@www.tennisireland.ie
SUMMARY:Douglas Tour 500 Singles Open 2024
DESCRIPTION:
URL:https://www.tennisireland.ie/tournaments/douglas-tour-500-singles-open-2024
LOCATION:Douglas Lawn Tennis Club
CATEGORIES:Category 500
END:VEVENT
BEGIN:VEVENT
DTSTART;TZID=UTC:20240622T000000
DTEND;TZID=UTC:20240629T000000
DTSTAMP:20260425T154838
CREATED:20231115T121220Z
LAST-MODIFIED:20240122T091249Z
UID:10001517-1719014400-1719619200@www.tennisireland.ie
SUMMARY:Douglas Tour 200 Junior Open
DESCRIPTION:
URL:https://www.tennisireland.ie/tournaments/douglas-tour-200-junior-open
LOCATION:Douglas Lawn Tennis Club
CATEGORIES:Category 200
END:VEVENT
BEGIN:VEVENT
DTSTART;TZID=UTC:20240412T000000
DTEND;TZID=UTC:20240420T000000
DTSTAMP:20260425T154838
CREATED:20231110T114527Z
LAST-MODIFIED:20240108T130045Z
UID:10001348-1712880000-1713571200@www.tennisireland.ie
SUMMARY:Douglas Tour 500 Doubles Open 2024
DESCRIPTION:
URL:https://www.tennisireland.ie/tournaments/douglas-tour-500-doubles-open-2024
LOCATION:Douglas Lawn Tennis Club
CATEGORIES:Category 500
END:VEVENT
BEGIN:VEVENT
DTSTART;TZID=UTC:20230803T000000
DTEND;TZID=UTC:20230812T000000
DTSTAMP:20260425T154838
CREATED:20231017T092034Z
LAST-MODIFIED:20231017T092034Z
UID:10001299-1691020800-1691798400@www.tennisireland.ie
SUMMARY:Douglas Singles Open 2023
DESCRIPTION:
URL:https://www.tennisireland.ie/tournaments/douglas-singles-open-2023
LOCATION:Douglas Lawn Tennis Club
CATEGORIES:Category 500
END:VEVENT
BEGIN:VEVENT
DTSTART;TZID=UTC:20230617T000000
DTEND;TZID=UTC:20230624T000000
DTSTAMP:20260425T154838
CREATED:20231017T091104Z
LAST-MODIFIED:20231017T091104Z
UID:10001112-1686960000-1687564800@www.tennisireland.ie
SUMMARY:Douglas Junior Open
DESCRIPTION:
URL:https://www.tennisireland.ie/tournaments/douglas-junior-open
LOCATION:Douglas Lawn Tennis Club
CATEGORIES:Category 200
END:VEVENT
BEGIN:VEVENT
DTSTART;TZID=UTC:20230507T000000
DTEND;TZID=UTC:20230513T000000
DTSTAMP:20260425T154838
CREATED:20231017T091820Z
LAST-MODIFIED:20231017T091820Z
UID:10001256-1683417600-1683936000@www.tennisireland.ie
SUMMARY:Douglas Doubles Open 2023
DESCRIPTION:
URL:https://www.tennisireland.ie/tournaments/douglas-doubles-open-2023
LOCATION:Douglas Lawn Tennis Club
CATEGORIES:Category 1000
END:VEVENT
END:VCALENDAR