BEGIN:VCALENDAR
VERSION:2.0
PRODID:-//Tennis Ireland - ECPv6.15.20//NONSGML v1.0//EN
CALSCALE:GREGORIAN
METHOD:PUBLISH
X-ORIGINAL-URL:https://www.tennisireland.ie
X-WR-CALDESC:Events for Tennis Ireland
REFRESH-INTERVAL;VALUE=DURATION:PT1H
X-Robots-Tag:noindex
X-PUBLISHED-TTL:PT1H
BEGIN:VTIMEZONE
TZID:UTC
BEGIN:STANDARD
TZOFFSETFROM:+0000
TZOFFSETTO:+0000
TZNAME:UTC
DTSTART:20220101T000000
END:STANDARD
END:VTIMEZONE
BEGIN:VEVENT
DTSTART;TZID=UTC:20250404T000000
DTEND;TZID=UTC:20250411T000000
DTSTAMP:20260424T155646
CREATED:20241101T114832Z
LAST-MODIFIED:20250204T135416Z
UID:10001867-1743724800-1744329600@www.tennisireland.ie
SUMMARY:City of Dublin National Tour Graded Championships
DESCRIPTION:
URL:https://www.tennisireland.ie/tournaments/city-of-dublin-national-tour-graded-championships
LOCATION:Charleville Lawn Tennis Club
CATEGORIES:Graded 200
END:VEVENT
BEGIN:VEVENT
DTSTART;TZID=UTC:20240412T000000
DTEND;TZID=UTC:20240420T000000
DTSTAMP:20260424T155646
CREATED:20231110T114332Z
LAST-MODIFIED:20240221T123204Z
UID:10001347-1712880000-1713571200@www.tennisireland.ie
SUMMARY:City of Dublin Championships 2024
DESCRIPTION:
URL:https://www.tennisireland.ie/tournaments/city-of-dublin-graded-open
LOCATION:Charleville Lawn Tennis Club
CATEGORIES:Category 200
END:VEVENT
BEGIN:VEVENT
DTSTART;TZID=UTC:20230414T000000
DTEND;TZID=UTC:20230422T000000
DTSTAMP:20260424T155646
CREATED:20231017T091801Z
LAST-MODIFIED:20231017T091801Z
UID:10001248-1681430400-1682121600@www.tennisireland.ie
SUMMARY:City of Dublin Championships No class 1 event
DESCRIPTION:
URL:https://www.tennisireland.ie/tournaments/city-of-dublin-championships-no-class-1-event
LOCATION:Charleville Lawn Tennis Club
CATEGORIES:Category 500
END:VEVENT
END:VCALENDAR