BEGIN:VCALENDAR
VERSION:2.0
PRODID:-//Tennis Ireland - ECPv6.15.20//NONSGML v1.0//EN
CALSCALE:GREGORIAN
METHOD:PUBLISH
X-WR-CALNAME:Tennis Ireland
X-ORIGINAL-URL:https://www.tennisireland.ie
X-WR-CALDESC:Events for Tennis Ireland
REFRESH-INTERVAL;VALUE=DURATION:PT1H
X-Robots-Tag:noindex
X-PUBLISHED-TTL:PT1H
BEGIN:VTIMEZONE
TZID:UTC
BEGIN:STANDARD
TZOFFSETFROM:+0000
TZOFFSETTO:+0000
TZNAME:UTC
DTSTART:20220101T000000
END:STANDARD
END:VTIMEZONE
BEGIN:VEVENT
DTSTART;TZID=UTC:20250711T000000
DTEND;TZID=UTC:20250719T000000
DTSTAMP:20260423T115436
CREATED:20241101T121005Z
LAST-MODIFIED:20250527T085356Z
UID:10001923-1752192000-1752883200@www.tennisireland.ie
SUMMARY:Ashbrook Graded National Tour 2025
DESCRIPTION:
URL:https://www.tennisireland.ie/tournaments/ashbrook-graded-national-tour-2025
LOCATION:Ashbrook Lawn Tennis Club
CATEGORIES:Graded 200
END:VEVENT
BEGIN:VEVENT
DTSTART;TZID=UTC:20240713T000000
DTEND;TZID=UTC:20240720T000000
DTSTAMP:20260423T115436
CREATED:20231110T120400Z
LAST-MODIFIED:20240122T091348Z
UID:10001408-1720828800-1721433600@www.tennisireland.ie
SUMMARY:Ashbrook Graded Open 2024
DESCRIPTION:
URL:https://www.tennisireland.ie/tournaments/ashbrook-graded-open
LOCATION:Ashbrook Lawn Tennis Club
CATEGORIES:Category 200
END:VEVENT
BEGIN:VEVENT
DTSTART;TZID=UTC:20230714T000000
DTEND;TZID=UTC:20230722T000000
DTSTAMP:20260423T115436
CREATED:20231017T092004Z
LAST-MODIFIED:20231017T092004Z
UID:10001289-1689292800-1689984000@www.tennisireland.ie
SUMMARY:Ashbrook Open 2023
DESCRIPTION:
URL:https://www.tennisireland.ie/tournaments/ashbrook-open-2023
LOCATION:Ashbrook Lawn Tennis Club
CATEGORIES:Category 500
END:VEVENT
END:VCALENDAR