BEGIN:VCALENDAR
VERSION:2.0
PRODID:-//Tennis Ireland - ECPv6.15.20//NONSGML v1.0//EN
CALSCALE:GREGORIAN
METHOD:PUBLISH
X-ORIGINAL-URL:https://www.tennisireland.ie
X-WR-CALDESC:Events for Tennis Ireland
REFRESH-INTERVAL;VALUE=DURATION:PT1H
X-Robots-Tag:noindex
X-PUBLISHED-TTL:PT1H
BEGIN:VTIMEZONE
TZID:UTC
BEGIN:STANDARD
TZOFFSETFROM:+0000
TZOFFSETTO:+0000
TZNAME:UTC
DTSTART:20240101T000000
END:STANDARD
END:VTIMEZONE
BEGIN:VEVENT
DTSTART;TZID=UTC:20250103T000000
DTEND;TZID=UTC:20250105T000000
DTSTAMP:20260420T132018
CREATED:20241101T083003Z
LAST-MODIFIED:20241104T135922Z
UID:10001662-1735862400-1736035200@www.tennisireland.ie
SUMMARY:Junior U12 National Indoor Championships 2025 (Weekend 1)
DESCRIPTION:
URL:https://www.tennisireland.ie/tournaments/junior-u12-national-indoor-championships-2025-weekend-1
LOCATION:National Tennis Centre
CATEGORIES:Category 1500
END:VEVENT
BEGIN:VEVENT
DTSTART;TZID=UTC:20250103T000000
DTEND;TZID=UTC:20250105T000000
DTSTAMP:20260420T132018
CREATED:20241101T083003Z
LAST-MODIFIED:20241106T143322Z
UID:10001663-1735862400-1736035200@www.tennisireland.ie
SUMMARY:Junior U14\, U16 & U18 National Indoor Championships 2025 (Weekend 1)
DESCRIPTION:
URL:https://www.tennisireland.ie/tournaments/junior-u14-u16-u18-national-indoor-championships-2025-weekend-1
LOCATION:Castleknock LTC
CATEGORIES:Category 1500
END:VEVENT
BEGIN:VEVENT
DTSTART;TZID=UTC:20250110T000000
DTEND;TZID=UTC:20250112T000000
DTSTAMP:20260420T132018
CREATED:20241101T083004Z
LAST-MODIFIED:20241104T135854Z
UID:10001664-1736467200-1736640000@www.tennisireland.ie
SUMMARY:Junior U12 National Indoor Championships 2025 (Weekend 2)
DESCRIPTION:
URL:https://www.tennisireland.ie/tournaments/junior-u12-national-indoor-championships-2025-weekend-2
LOCATION:National Tennis Centre
CATEGORIES:Category 1500
END:VEVENT
BEGIN:VEVENT
DTSTART;TZID=UTC:20250110T000000
DTEND;TZID=UTC:20250112T000000
DTSTAMP:20260420T132018
CREATED:20241101T083004Z
LAST-MODIFIED:20241104T135959Z
UID:10001665-1736467200-1736640000@www.tennisireland.ie
SUMMARY:Junior U14\, U16 & U18 National Indoor Championships 2025 (Weekend 2)
DESCRIPTION:
URL:https://www.tennisireland.ie/tournaments/junior-u14-u16-u18-national-indoor-championships-2025-weekend-2
LOCATION:Castleknock LTC
CATEGORIES:Category 1500
END:VEVENT
BEGIN:VEVENT
DTSTART;TZID=UTC:20250131T000000
DTEND;TZID=UTC:20250203T000000
DTSTAMP:20260420T132018
CREATED:20241101T083004Z
LAST-MODIFIED:20241220T111047Z
UID:10001666-1738281600-1738540800@www.tennisireland.ie
SUMMARY:Junior South of Ireland Tour 500
DESCRIPTION:
URL:https://www.tennisireland.ie/tournaments/junior-south-of-ireland-tour-500
LOCATION:Limerick LTC
CATEGORIES:Category 500
END:VEVENT
BEGIN:VEVENT
DTSTART;TZID=UTC:20250131T000000
DTEND;TZID=UTC:20250203T000000
DTSTAMP:20260420T132018
CREATED:20241101T095421Z
LAST-MODIFIED:20241220T105942Z
UID:10001826-1738281600-1738540800@www.tennisireland.ie
SUMMARY:Nenagh Masters Tour 1000
DESCRIPTION:
URL:https://www.tennisireland.ie/tournaments/nenagh-masters-tour-1000
LOCATION:Nenagh LTC
CATEGORIES:Category 1000
END:VEVENT
END:VCALENDAR