BEGIN:VCALENDAR
VERSION:2.0
PRODID:-//Tennis Ireland - ECPv6.15.20//NONSGML v1.0//EN
CALSCALE:GREGORIAN
METHOD:PUBLISH
X-ORIGINAL-URL:https://www.tennisireland.ie
X-WR-CALDESC:Events for Tennis Ireland
REFRESH-INTERVAL;VALUE=DURATION:PT1H
X-Robots-Tag:noindex
X-PUBLISHED-TTL:PT1H
BEGIN:VTIMEZONE
TZID:UTC
BEGIN:STANDARD
TZOFFSETFROM:+0000
TZOFFSETTO:+0000
TZNAME:UTC
DTSTART:20250101T000000
END:STANDARD
END:VTIMEZONE
BEGIN:VEVENT
DTSTART;TZID=UTC:20260802T000000
DTEND;TZID=UTC:20260809T000000
DTSTAMP:20260425T121534
CREATED:20251212T183213Z
LAST-MODIFIED:20251212T183213Z
UID:10002346-1785628800-1786233600@www.tennisireland.ie
SUMMARY:County Londonderry Senior Tour 500 Championships 2026
DESCRIPTION:
URL:https://www.tennisireland.ie/tournaments/county-londonderry-senior-tour-500-championships-2026
LOCATION:Limavady Recreation Club
CATEGORIES:Category 500
END:VEVENT
BEGIN:VEVENT
DTSTART;TZID=UTC:20260803T000000
DTEND;TZID=UTC:20260809T000000
DTSTAMP:20260425T121534
CREATED:20251212T183413Z
LAST-MODIFIED:20251212T183413Z
UID:10002347-1785715200-1786233600@www.tennisireland.ie
SUMMARY:2026 South East Senior Tour 200 Open Championships
DESCRIPTION:
URL:https://www.tennisireland.ie/tournaments/2026-south-east-senior-tour-200-open-championships
CATEGORIES:Category 200
END:VEVENT
BEGIN:VEVENT
DTSTART;TZID=UTC:20260804T000000
DTEND;TZID=UTC:20260808T000000
DTSTAMP:20260425T121534
CREATED:20251203T121006Z
LAST-MODIFIED:20251203T121006Z
UID:10002180-1785801600-1786147200@www.tennisireland.ie
SUMMARY:Wexford Junior Tour 200 Open 2026
DESCRIPTION:
URL:https://www.tennisireland.ie/tournaments/wexford-junior-tour-200-open-2026
END:VEVENT
BEGIN:VEVENT
DTSTART;TZID=UTC:20260804T000000
DTEND;TZID=UTC:20260808T000000
DTSTAMP:20260425T121534
CREATED:20260106T185644Z
LAST-MODIFIED:20260106T185646Z
UID:10002376-1785801600-1786147200@www.tennisireland.ie
SUMMARY:Wexford Harbour B&TC Junior Tour 100 U18 2026
DESCRIPTION:
URL:https://www.tennisireland.ie/tournaments/wexford-harbour-btc-junior-tour-100-u18-2026
LOCATION:Wexford Harbour Boat & Tennis Club
END:VEVENT
BEGIN:VEVENT
DTSTART;TZID=UTC:20260806T000000
DTEND;TZID=UTC:20260809T000000
DTSTAMP:20260425T121534
CREATED:20251203T121006Z
LAST-MODIFIED:20251203T121006Z
UID:10002181-1785974400-1786233600@www.tennisireland.ie
SUMMARY:Newcastle TC Junior Tour 500 2026
DESCRIPTION:
URL:https://www.tennisireland.ie/tournaments/newcastle-tc-junior-tour-500-2026
LOCATION:Newcastle TC\, Bryansford Grove\, Newcastle\, Co Down\, BT33 0DP\, Ireland
END:VEVENT
BEGIN:VEVENT
DTSTART;TZID=UTC:20260806T000000
DTEND;TZID=UTC:20260811T000000
DTSTAMP:20260425T121534
CREATED:20251203T121007Z
LAST-MODIFIED:20251203T121007Z
UID:10002182-1785974400-1786406400@www.tennisireland.ie
SUMMARY:Malahide LTC Junior Tour 1000 2026
DESCRIPTION:
URL:https://www.tennisireland.ie/tournaments/malahide-ltc-junior-tour-1000-2026
LOCATION:Malahide LTC
END:VEVENT
BEGIN:VEVENT
DTSTART;TZID=UTC:20260807T000000
DTEND;TZID=UTC:20260808T000000
DTSTAMP:20260425T121534
CREATED:20251203T121013Z
LAST-MODIFIED:20251203T121013Z
UID:10002183-1786060800-1786147200@www.tennisireland.ie
SUMMARY:Under 18 Inter-Provincial Championships 2025
DESCRIPTION:
URL:https://www.tennisireland.ie/tournaments/under-18-inter-provincial-championships-2025-2
LOCATION:TBC\, TBC\, Ireland
END:VEVENT
BEGIN:VEVENT
DTSTART;TZID=UTC:20260807T000000
DTEND;TZID=UTC:20260815T000000
DTSTAMP:20260425T121534
CREATED:20251212T183414Z
LAST-MODIFIED:20251212T183414Z
UID:10002349-1786060800-1786752000@www.tennisireland.ie
SUMMARY:East of Ireland Senior Tour 1000 Open 2026
DESCRIPTION:
URL:https://www.tennisireland.ie/tournaments/east-of-ireland-senior-tour-1000-open-2026
LOCATION:Lansdowne LTC
CATEGORIES:Category 1000
END:VEVENT
BEGIN:VEVENT
DTSTART;TZID=UTC:20260808T000000
DTEND;TZID=UTC:20260814T000000
DTSTAMP:20260425T121534
CREATED:20251203T121014Z
LAST-MODIFIED:20251203T121014Z
UID:10002184-1786147200-1786665600@www.tennisireland.ie
SUMMARY:Malahide LTC Junior Tour 200 2026
DESCRIPTION:
URL:https://www.tennisireland.ie/tournaments/malahide-ltc-junior-tour-200-2026
LOCATION:Malahide LTC
END:VEVENT
BEGIN:VEVENT
DTSTART;TZID=UTC:20260808T000000
DTEND;TZID=UTC:20260815T000000
DTSTAMP:20260425T121534
CREATED:20251212T171032Z
LAST-MODIFIED:20251212T171032Z
UID:10002243-1786147200-1786752000@www.tennisireland.ie
SUMMARY:40 & 45 World Individual Championships 2026
DESCRIPTION:
URL:https://www.tennisireland.ie/tournaments/40-45-world-individual-championships-2026
END:VEVENT
BEGIN:VEVENT
DTSTART;TZID=UTC:20260808T000000
DTEND;TZID=UTC:20260815T000000
DTSTAMP:20260425T121534
CREATED:20251212T183414Z
LAST-MODIFIED:20251212T183414Z
UID:10002350-1786147200-1786752000@www.tennisireland.ie
SUMMARY:Bandon LTC Senior Graded Tour Open 2026
DESCRIPTION:
URL:https://www.tennisireland.ie/tournaments/bandon-ltc-senior-graded-tour-open-2026
LOCATION:Bandon LTC
CATEGORIES:Category Graded
END:VEVENT
BEGIN:VEVENT
DTSTART;TZID=UTC:20260808T000000
DTEND;TZID=UTC:20260815T000000
DTSTAMP:20260425T121534
CREATED:20251212T183414Z
LAST-MODIFIED:20251212T183414Z
UID:10002351-1786147200-1786752000@www.tennisireland.ie
SUMMARY:CIYMS Senior Tour 500 Open 2026
DESCRIPTION:
URL:https://www.tennisireland.ie/tournaments/ciyms-senior-tour-500-open-2026
LOCATION:CIYMS
CATEGORIES:Category 500
END:VEVENT
BEGIN:VEVENT
DTSTART;TZID=UTC:20260808T000000
DTEND;TZID=UTC:20260815T000000
DTSTAMP:20260425T121534
CREATED:20251212T183614Z
LAST-MODIFIED:20251212T183614Z
UID:10002352-1786147200-1786752000@www.tennisireland.ie
SUMMARY:East Cork Senior Tour 500 Doubles Open 2026
DESCRIPTION:
URL:https://www.tennisireland.ie/tournaments/east-cork-senior-tour-500-doubles-open-2026
LOCATION:Lower Aghada TC
CATEGORIES:Category 500
END:VEVENT
BEGIN:VEVENT
DTSTART;TZID=UTC:20260808T000000
DTEND;TZID=UTC:20260815T000000
DTSTAMP:20260425T121534
CREATED:20251212T183614Z
LAST-MODIFIED:20251212T183614Z
UID:10002353-1786147200-1786752000@www.tennisireland.ie
SUMMARY:Munster Senior Tour 500 Clay Court Centenary Championships 2026
DESCRIPTION:
URL:https://www.tennisireland.ie/tournaments/munster-senior-tour-500-clay-court-centenary-championships-2026
LOCATION:County Tipperary LTC
CATEGORIES:Category 500
END:VEVENT
BEGIN:VEVENT
DTSTART;TZID=UTC:20260809T000000
DTEND;TZID=UTC:20260810T000000
DTSTAMP:20260425T121534
CREATED:20251212T183413Z
LAST-MODIFIED:20251212T183413Z
UID:10002348-1786233600-1786320000@www.tennisireland.ie
SUMMARY:Senior Interprovinical Championhships 2026
DESCRIPTION:
URL:https://www.tennisireland.ie/tournaments/senior-interprovinical-championhships-2026
LOCATION:TBC\, TBC\, Ireland
CATEGORIES:Category
END:VEVENT
BEGIN:VEVENT
DTSTART;TZID=UTC:20260810T000000
DTEND;TZID=UTC:20260814T000000
DTSTAMP:20260425T121534
CREATED:20251203T121014Z
LAST-MODIFIED:20251203T121014Z
UID:10002185-1786320000-1786665600@www.tennisireland.ie
SUMMARY:Carrigaline TC Junior Tour 100 Open 2026
DESCRIPTION:
URL:https://www.tennisireland.ie/tournaments/carrigaline-tc-junior-tour-100-open-2026
LOCATION:Carrigaline TC
END:VEVENT
BEGIN:VEVENT
DTSTART;TZID=UTC:20260811T000000
DTEND;TZID=UTC:20260816T000000
DTSTAMP:20260425T121534
CREATED:20251203T121014Z
LAST-MODIFIED:20251203T121014Z
UID:10002186-1786406400-1786838400@www.tennisireland.ie
SUMMARY:William Fry Junior Lawn Championships of Ireland U14 / U18 2026
DESCRIPTION:
URL:https://www.tennisireland.ie/tournaments/william-fry-junior-lawn-championships-of-ireland-u14-u18-2026
END:VEVENT
BEGIN:VEVENT
DTSTART;TZID=UTC:20260812T080000
DTEND;TZID=UTC:20260820T170000
DTSTAMP:20260425T121534
CREATED:20260413T144428Z
LAST-MODIFIED:20260413T144430Z
UID:10002400-1786521600-1787245200@www.tennisireland.ie
SUMMARY:Tennis Leinster Junior Tour 100 & 200 Summer Events Part 4
DESCRIPTION:
URL:https://www.tennisireland.ie/tournaments/tennis-leinster-junior-tour-100-200-summer-events-part-4
LOCATION:Tennis Leinster\, Tennis Leinster\, Hub17\, 17 Corrig road\, Sandyford Business Park\, Dublin 18\, Dublin\, D18N6K8\, Ireland
END:VEVENT
BEGIN:VEVENT
DTSTART;TZID=UTC:20260813T000000
DTEND;TZID=UTC:20260816T000000
DTSTAMP:20260425T121534
CREATED:20251212T183614Z
LAST-MODIFIED:20251212T183614Z
UID:10002354-1786579200-1786838400@www.tennisireland.ie
SUMMARY:Athy TC Senior Tour Graded 2026
DESCRIPTION:
URL:https://www.tennisireland.ie/tournaments/athy-tc-senior-tour-graded-2026
LOCATION:Athy TC\, Dublin Road\, Athy\, Co.Kildare\, Leinster\, R14EY01\, Ireland
CATEGORIES:Category Graded
GEO:52.992722;6.967306
X-APPLE-STRUCTURED-LOCATION;VALUE=URI;X-ADDRESS=Athy TC Dublin Road Athy Co.Kildare Leinster R14EY01 Ireland;X-APPLE-RADIUS=500;X-TITLE=Dublin Road\, Athy:geo:6.967306,52.992722
END:VEVENT
BEGIN:VEVENT
DTSTART;TZID=UTC:20260814T000000
DTEND;TZID=UTC:20260815T000000
DTSTAMP:20260425T121534
CREATED:20251212T171033Z
LAST-MODIFIED:20260330T115555Z
UID:10002244-1786665600-1786752000@www.tennisireland.ie
SUMMARY:50\,55 & 60 Interprovincials 2026
DESCRIPTION:
URL:https://www.tennisireland.ie/tournaments/5055-60-interprovincials-2026
LOCATION:Belfast Boat Club
CATEGORIES:Category 1000
END:VEVENT
BEGIN:VEVENT
DTSTART;TZID=UTC:20260814T000000
DTEND;TZID=UTC:20260822T000000
DTSTAMP:20260425T121534
CREATED:20251212T184016Z
LAST-MODIFIED:20260210T135838Z
UID:10002362-1786665600-1787356800@www.tennisireland.ie
SUMMARY:Mullingar T&BC Senior Tour 500 Open 2026
DESCRIPTION:
URL:https://www.tennisireland.ie/tournaments/mullingar-tbc-senior-tour-500-open-2026
CATEGORIES:Category 500
END:VEVENT
BEGIN:VEVENT
DTSTART;TZID=UTC:20260815T000000
DTEND;TZID=UTC:20260819T000000
DTSTAMP:20260425T121534
CREATED:20251203T121015Z
LAST-MODIFIED:20251203T121015Z
UID:10002187-1786752000-1787097600@www.tennisireland.ie
SUMMARY:Limavadey Junior Tour 200 2026
DESCRIPTION:
URL:https://www.tennisireland.ie/tournaments/limavadey-junior-tour-200-2026
END:VEVENT
BEGIN:VEVENT
DTSTART;TZID=UTC:20260815T000000
DTEND;TZID=UTC:20260822T000000
DTSTAMP:20260425T121534
CREATED:20251203T121023Z
LAST-MODIFIED:20251203T121023Z
UID:10002188-1786752000-1787356800@www.tennisireland.ie
SUMMARY:St Michaels LTC Junior Tour 200 Open 2026
DESCRIPTION:
URL:https://www.tennisireland.ie/tournaments/st-michaels-ltc-junior-tour-200-open-2026
END:VEVENT
BEGIN:VEVENT
DTSTART;TZID=UTC:20260815T000000
DTEND;TZID=UTC:20260822T000000
DTSTAMP:20260425T121534
CREATED:20251212T183614Z
LAST-MODIFIED:20251212T183614Z
UID:10002355-1786752000-1787356800@www.tennisireland.ie
SUMMARY:Sutton LTC 2 and below Senior Tour 1000 Open sponsored by Adrian Dunne Pharmacy Group 2026
DESCRIPTION:
URL:https://www.tennisireland.ie/tournaments/sutton-ltc-2-and-below-senior-tour-1000-open-sponsored-by-adrian-dunne-pharmacy-group-2026
LOCATION:Sutton LTC
CATEGORIES:Category 1000
END:VEVENT
BEGIN:VEVENT
DTSTART;TZID=UTC:20260816T000000
DTEND;TZID=UTC:20260822T000000
DTSTAMP:20260425T121534
CREATED:20251203T121024Z
LAST-MODIFIED:20251203T121024Z
UID:10002190-1786838400-1787356800@www.tennisireland.ie
SUMMARY:William Fry Junior Lawn Championships of Ireland U12 / U16 2026
DESCRIPTION:
URL:https://www.tennisireland.ie/tournaments/william-fry-junior-lawn-championships-of-ireland-u12-u16-2026
END:VEVENT
BEGIN:VEVENT
DTSTART;TZID=UTC:20260816T000000
DTEND;TZID=UTC:20260830T000000
DTSTAMP:20260425T121534
CREATED:20251212T183615Z
LAST-MODIFIED:20251212T183615Z
UID:10002356-1786838400-1788048000@www.tennisireland.ie
SUMMARY:Ballinlough TC Senior Tour 500 Open Week 2026
DESCRIPTION:
URL:https://www.tennisireland.ie/tournaments/ballinlough-tc-senior-tour-500-open-week-2026
LOCATION:Ballinlough TC
CATEGORIES:Category 500
END:VEVENT
BEGIN:VEVENT
DTSTART;TZID=UTC:20260817T000000
DTEND;TZID=UTC:20260821T000000
DTSTAMP:20260425T121534
CREATED:20251203T121024Z
LAST-MODIFIED:20251203T121024Z
UID:10002189-1786924800-1787270400@www.tennisireland.ie
SUMMARY:Bangor LTC Junior Tour 200 2026
DESCRIPTION:
URL:https://www.tennisireland.ie/tournaments/bangor-ltc-junior-tour-200-2026
END:VEVENT
BEGIN:VEVENT
DTSTART;TZID=UTC:20260818T000000
DTEND;TZID=UTC:20260819T000000
DTSTAMP:20260425T121534
CREATED:20251203T121024Z
LAST-MODIFIED:20251203T121024Z
UID:10002191-1787011200-1787097600@www.tennisireland.ie
SUMMARY:Galway LTC Junior Tour 200 August
DESCRIPTION:
URL:https://www.tennisireland.ie/tournaments/galway-ltc-junior-tour-200-august
LOCATION:Galway LTC
END:VEVENT
BEGIN:VEVENT
DTSTART;TZID=UTC:20260821T000000
DTEND;TZID=UTC:20260823T000000
DTSTAMP:20260425T121534
CREATED:20251212T171033Z
LAST-MODIFIED:20251213T152228Z
UID:10002245-1787270400-1787443200@www.tennisireland.ie
SUMMARY:Northwest Masters Tour 500 2026
DESCRIPTION:
URL:https://www.tennisireland.ie/tournaments/northwest-masters-tour-500-2026
LOCATION:Letterkenny LTC
CATEGORIES:Category 500
END:VEVENT
BEGIN:VEVENT
DTSTART;TZID=UTC:20260821T000000
DTEND;TZID=UTC:20260823T000000
DTSTAMP:20260425T121534
CREATED:20251212T183815Z
LAST-MODIFIED:20260121T212811Z
UID:10002357-1787270400-1787443200@www.tennisireland.ie
SUMMARY:St Anne's Waterford TC Senior Tour 500 Doubles Open 2026
DESCRIPTION:
URL:https://www.tennisireland.ie/tournaments/st-annes-waterford-ltc-senior-tour-500-doubles-open-2026
LOCATION:St Anne’s Waterford TC
CATEGORIES:Category 500
END:VEVENT
END:VCALENDAR