BEGIN:VCALENDAR
VERSION:2.0
PRODID:-//Tennis Ireland - ECPv6.15.20//NONSGML v1.0//EN
CALSCALE:GREGORIAN
METHOD:PUBLISH
X-WR-CALNAME:Tennis Ireland
X-ORIGINAL-URL:https://www.tennisireland.ie
X-WR-CALDESC:Events for Tennis Ireland
REFRESH-INTERVAL;VALUE=DURATION:PT1H
X-Robots-Tag:noindex
X-PUBLISHED-TTL:PT1H
BEGIN:VTIMEZONE
TZID:UTC
BEGIN:STANDARD
TZOFFSETFROM:+0000
TZOFFSETTO:+0000
TZNAME:UTC
DTSTART:20250101T000000
END:STANDARD
END:VTIMEZONE
BEGIN:VEVENT
DTSTART;TZID=UTC:20260321T000000
DTEND;TZID=UTC:20260322T000000
DTSTAMP:20260422T025317
CREATED:20251203T120527Z
LAST-MODIFIED:20251203T120527Z
UID:10002078-1774051200-1774137600@www.tennisireland.ie
SUMMARY:ITF - 18 J30 Qualifying Draw
DESCRIPTION:
URL:https://www.tennisireland.ie/tournaments/itf-18-j30-qualifying-draw-8
LOCATION:St Anne’s Waterford TC
CATEGORIES:J30
END:VEVENT
BEGIN:VEVENT
DTSTART;TZID=UTC:20260323T000000
DTEND;TZID=UTC:20260327T000000
DTSTAMP:20260422T025317
CREATED:20251203T120528Z
LAST-MODIFIED:20251203T120528Z
UID:10002080-1774224000-1774569600@www.tennisireland.ie
SUMMARY:ITF - 18 J30 Main Draw
DESCRIPTION:
URL:https://www.tennisireland.ie/tournaments/itf-18-j30-main-draw-8
LOCATION:St Anne’s Waterford TC
CATEGORIES:J30
END:VEVENT
BEGIN:VEVENT
DTSTART;TZID=UTC:20260328T000000
DTEND;TZID=UTC:20260329T000000
DTSTAMP:20260422T025317
CREATED:20251203T120528Z
LAST-MODIFIED:20251203T120528Z
UID:10002082-1774656000-1774742400@www.tennisireland.ie
SUMMARY:ITF - 18 J30 Qualifying Draw
DESCRIPTION:
URL:https://www.tennisireland.ie/tournaments/itf-18-j30-qualifying-draw-9
CATEGORIES:J30
END:VEVENT
BEGIN:VEVENT
DTSTART;TZID=UTC:20260330T000000
DTEND;TZID=UTC:20260403T000000
DTSTAMP:20260422T025317
CREATED:20251203T120615Z
LAST-MODIFIED:20251203T120615Z
UID:10002087-1774828800-1775174400@www.tennisireland.ie
SUMMARY:ITF - 18 J30 Main Draw
DESCRIPTION:
URL:https://www.tennisireland.ie/tournaments/itf-18-j30-main-draw-9
CATEGORIES:J30
END:VEVENT
END:VCALENDAR