BEGIN:VCALENDAR
VERSION:2.0
PRODID:-//Tennis Ireland - ECPv6.15.20//NONSGML v1.0//EN
CALSCALE:GREGORIAN
METHOD:PUBLISH
X-WR-CALNAME:Tennis Ireland
X-ORIGINAL-URL:https://www.tennisireland.ie
X-WR-CALDESC:Events for Tennis Ireland
REFRESH-INTERVAL;VALUE=DURATION:PT1H
X-Robots-Tag:noindex
X-PUBLISHED-TTL:PT1H
BEGIN:VTIMEZONE
TZID:UTC
BEGIN:STANDARD
TZOFFSETFROM:+0000
TZOFFSETTO:+0000
TZNAME:UTC
DTSTART:20240101T000000
END:STANDARD
END:VTIMEZONE
BEGIN:VEVENT
DTSTART;TZID=UTC:20250502T000000
DTEND;TZID=UTC:20250505T000000
DTSTAMP:20260422T085845
CREATED:20241101T095728Z
LAST-MODIFIED:20241101T095728Z
UID:10001841-1746144000-1746403200@www.tennisireland.ie
SUMMARY:4 Nations 50+\, 60+ & 65+
DESCRIPTION:
URL:https://www.tennisireland.ie/tournaments/4-nations-50-60-65
LOCATION:TBC\, TBC\, Ireland
CATEGORIES:International
END:VEVENT
END:VCALENDAR