BEGIN:VCALENDAR
VERSION:2.0
PRODID:-//Tennis Ireland - ECPv6.15.20//NONSGML v1.0//EN
CALSCALE:GREGORIAN
METHOD:PUBLISH
X-ORIGINAL-URL:https://www.tennisireland.ie
X-WR-CALDESC:Events for Tennis Ireland
REFRESH-INTERVAL;VALUE=DURATION:PT1H
X-Robots-Tag:noindex
X-PUBLISHED-TTL:PT1H
BEGIN:VTIMEZONE
TZID:UTC
BEGIN:STANDARD
TZOFFSETFROM:+0000
TZOFFSETTO:+0000
TZNAME:UTC
DTSTART:20220101T000000
END:STANDARD
END:VTIMEZONE
BEGIN:VEVENT
DTSTART;TZID=UTC:20231013T000000
DTEND;TZID=UTC:20231015T000000
DTSTAMP:20260424T140213
CREATED:20231017T091514Z
LAST-MODIFIED:20231017T091514Z
UID:10001192-1697155200-1697328000@www.tennisireland.ie
SUMMARY:Tramore TC Tour 500 week 2 U12 & U18
DESCRIPTION:
URL:https://www.tennisireland.ie/tournaments/tramore-tc-tour-500-week-2-u12-u18
LOCATION:Tramore Tennis Club
CATEGORIES:Category 500
END:VEVENT
BEGIN:VEVENT
DTSTART;TZID=UTC:20231013T000000
DTEND;TZID=UTC:20231015T000000
DTSTAMP:20260424T140213
CREATED:20231017T091730Z
LAST-MODIFIED:20231017T091730Z
UID:10001238-1697155200-1697328000@www.tennisireland.ie
SUMMARY:Kilkenny Masters 30 to 45 sponsored by DNG Ella Dunphy
DESCRIPTION:
URL:https://www.tennisireland.ie/tournaments/kilkenny-masters-30-to-45-sponsored-by-dng-ella-dunphy
LOCATION:Kilkenny County & City LTC
CATEGORIES:Category 1000
END:VEVENT
BEGIN:VEVENT
DTSTART;TZID=UTC:20231014T000000
DTEND;TZID=UTC:20231021T000000
DTSTAMP:20260424T140213
CREATED:20231017T091732Z
LAST-MODIFIED:20231017T091732Z
UID:10001239-1697241600-1697846400@www.tennisireland.ie
SUMMARY:65\, 70\, 75\, 80\, 85 World Individual Championships
DESCRIPTION:
URL:https://www.tennisireland.ie/tournaments/65-70-75-80-85-world-individual-championships
LOCATION:Athlone Tennis Club
CATEGORIES:International
END:VEVENT
END:VCALENDAR