BEGIN:VCALENDAR
VERSION:2.0
PRODID:-//Tennis Ireland - ECPv6.15.20//NONSGML v1.0//EN
CALSCALE:GREGORIAN
METHOD:PUBLISH
X-ORIGINAL-URL:https://www.tennisireland.ie
X-WR-CALDESC:Events for Tennis Ireland
REFRESH-INTERVAL;VALUE=DURATION:PT1H
X-Robots-Tag:noindex
X-PUBLISHED-TTL:PT1H
BEGIN:VTIMEZONE
TZID:UTC
BEGIN:STANDARD
TZOFFSETFROM:+0000
TZOFFSETTO:+0000
TZNAME:UTC
DTSTART:20220101T000000
END:STANDARD
END:VTIMEZONE
BEGIN:VEVENT
DTSTART;TZID=UTC:20230922T000000
DTEND;TZID=UTC:20231007T000000
DTSTAMP:20260424T140137
CREATED:20231017T092150Z
LAST-MODIFIED:20231017T092150Z
UID:10001325-1695340800-1696636800@www.tennisireland.ie
SUMMARY:Garryduff Doubles
DESCRIPTION:
URL:https://www.tennisireland.ie/tournaments/garryduff-doubles
LOCATION:Garryduff Sports Centre – Tennis Club
CATEGORIES:Category 200
END:VEVENT
BEGIN:VEVENT
DTSTART;TZID=UTC:20231006T000000
DTEND;TZID=UTC:20231008T000000
DTSTAMP:20260424T140137
CREATED:20231017T091505Z
LAST-MODIFIED:20231017T091505Z
UID:10001191-1696550400-1696723200@www.tennisireland.ie
SUMMARY:Tramore TC Tour 500 week 1 U14 & U16
DESCRIPTION:
URL:https://www.tennisireland.ie/tournaments/tramore-tc-tour-500-week-1-u14-u16
LOCATION:Tramore Tennis Club
CATEGORIES:Category 500
END:VEVENT
BEGIN:VEVENT
DTSTART;TZID=UTC:20231006T000000
DTEND;TZID=UTC:20231008T000000
DTSTAMP:20260424T140137
CREATED:20231017T091702Z
LAST-MODIFIED:20231017T091702Z
UID:10001229-1696550400-1696723200@www.tennisireland.ie
SUMMARY:Westport Masters Doubles Open (35\, 45 & 55) - cancelled
DESCRIPTION:
URL:https://www.tennisireland.ie/tournaments/westport-masters-doubles-open-35-45-55-cancelled
LOCATION:Westport Tennis Club
CATEGORIES:National
END:VEVENT
END:VCALENDAR