BEGIN:VCALENDAR
VERSION:2.0
PRODID:-//Tennis Ireland - ECPv6.15.20//NONSGML v1.0//EN
CALSCALE:GREGORIAN
METHOD:PUBLISH
X-WR-CALNAME:Tennis Ireland
X-ORIGINAL-URL:https://www.tennisireland.ie
X-WR-CALDESC:Events for Tennis Ireland
REFRESH-INTERVAL;VALUE=DURATION:PT1H
X-Robots-Tag:noindex
X-PUBLISHED-TTL:PT1H
BEGIN:VTIMEZONE
TZID:UTC
BEGIN:STANDARD
TZOFFSETFROM:+0000
TZOFFSETTO:+0000
TZNAME:UTC
DTSTART:20220101T000000
END:STANDARD
END:VTIMEZONE
BEGIN:VEVENT
DTSTART;TZID=UTC:20230826T000000
DTEND;TZID=UTC:20230902T000000
DTSTAMP:20260424T200225
CREATED:20231017T092117Z
LAST-MODIFIED:20231129T165530Z
UID:10001313-1693008000-1693612800@www.tennisireland.ie
SUMMARY:Limerick Senior Doubles Open
DESCRIPTION:
URL:https://www.tennisireland.ie/tournaments/limerick-senior-doubles-open
LOCATION:Catholic Institute Athletic Club – Tennis Club
CATEGORIES:Category 500
END:VEVENT
BEGIN:VEVENT
DTSTART;TZID=UTC:20230826T000000
DTEND;TZID=UTC:20230902T000000
DTSTAMP:20260424T200225
CREATED:20231017T092118Z
LAST-MODIFIED:20231110T121859Z
UID:10001314-1693008000-1693612800@www.tennisireland.ie
SUMMARY:Templeogue Senior Open 2023
DESCRIPTION:
URL:https://www.tennisireland.ie/tournaments/templeogue-senior-open-2023
LOCATION:Templeogue TC
CATEGORIES:Category 1000
END:VEVENT
BEGIN:VEVENT
DTSTART;TZID=UTC:20230828T000000
DTEND;TZID=UTC:20230902T000000
DTSTAMP:20260424T200225
CREATED:20231017T092120Z
LAST-MODIFIED:20231116T153330Z
UID:10001315-1693180800-1693612800@www.tennisireland.ie
SUMMARY:Ballinlough Senior Open
DESCRIPTION:
URL:https://www.tennisireland.ie/tournaments/ballinlough-senior-open
LOCATION:Ballinlough TC
CATEGORIES:Category 500
END:VEVENT
END:VCALENDAR